BEGIN:VCALENDAR
VERSION:2.0
PRODID:-//ChamberMaster//Event Calendar 2.0//EN
METHOD:PUBLISH
X-PUBLISHED-TTL:P3D
REFRESH-INTERVAL:P3D
CALSCALE:GREGORIAN
BEGIN:VEVENT
DTSTART:20190215T233000Z
DTEND:20190216T020000Z
X-MICROSOFT-CDO-ALLDAYEVENT:FALSE
SUMMARY:AFTER Vday! DIY DATE NIGHT!
DESCRIPTION:AFTER Vday! DIY DATE NIGHT!\n\n\n\n\n\n\n	FRIDAY\, FEBRUARY 15\, 2019\n\n	6:30 PM - 9:00 PM  \n\n\n\n1039 HILL RD N\,\n\nPICKERINGTON\, OHIO 43147\n \n\nPHONE: 614-429-5625\n\n\n\n \n\n\n\nJoin us at AR Workshop Pickerington! for DIY DATE NIGHT! Choose from the following combos:\n\n\n	Blanket Ladder + Chunky Knit Blanket\n	Blanket Ladder + Wooden Tray\n	Blanket Ladder + Centerpiece Box\n	Blanket Ladder + Lazy Susan\n\n\nREGISTER HERE:
X-ALT-DESC;FMTTYPE=text/html:<div id="espresso-event-details-dv" style="margin: 0px\; padding: 0px\; border: 0px\; vertical-align: baseline\; font-size: 14px\; font-family: &quot\;Open Sans&quot\;\; background-color: rgb(255\, 255\, 255)\;">\n<article class="has-excerpt post-15801 espresso_events type-espresso_events status-publish has-post-thumbnail hentry tag-customized-wood-sign tag-wood-sign-class tag-wood-sign-painting-class espresso_event_categories-framed-wood-sign-workshop espresso_event_categories-lazysusan espresso_event_categories-plank-wood-sign-class espresso_event_categories-wood-photo-frame espresso_event_type-single-event" id="post-15801" style="margin: 0px 0px 48px\; padding: 0px\; border: 0px\; vertical-align: baseline\;">\n<div class="espresso-event-header-dv" id="espresso-event-header-dv-15801" style="margin: 0px\; padding: 0px\; border: 0px\; vertical-align: baseline\;">\n<header class="event-header" style="margin: 0px\; padding: 0px\; border: 0px\; vertical-align: baseline\;">\n<h1 class="entry-title" id="event-details-h1-15801" style="margin: 0px 0px 16px\; font-weight: normal\; line-height: 1.3em\; overflow-wrap: break-word\; font-size: 36px\; font-family: Oswald\; padding-bottom: 8px\; border-bottom: 1px solid rgb(51\, 51\, 51)\;"><a href="https://www.arworkshop.com/pickerington/events/after-vday-diy-date-night/" style="margin: 0px\; padding: 0px\; border: 0px\; vertical-align: baseline\; color: rgb(46\, 46\, 46)\; text-decoration-line: none\; overflow-wrap: break-word\; outline: none 0px\;">AFTER Vday! DIY DATE NIGHT!</a></h1>\n</header>\n</div>\n\n<div class="espresso-event-wrapper-dv" style="margin: 0px\; padding: 0px\; border: 0px\; vertical-align: baseline\;">\n<div class="event-datetimes" style="margin: 0px\; padding: 0px\; border: 0px\; vertical-align: baseline\; font-size: 16px\; font-family: Oswald\, sans-serif\; text-transform: uppercase\; width: 928px\; float: left\;">\n<ul class="ee-event-datetimes-ul ee-clearfix" id="ee-event-datetimes-ul-15801" style="margin: 0px\; padding: 0px\; border: 0px\; vertical-align: baseline\; list-style-position: initial\; list-style-image: initial\;">\n	<li class="ee-event-datetimes-li ee-event-datetimes-li-DTU" id="ee-event-datetimes-li-409" style="margin: 0px 0px 1em\; padding: 0px\; border: 0px\; vertical-align: baseline\; float: left\; width: 464px\; list-style-type: none\;"><span class="ee-event-datetimes-li-daterange" style="margin: 0px\; padding: 0px\; border: 0px\; vertical-align: baseline\;">FRIDAY\,&nbsp\;FEBRUARY&nbsp\;15\,&nbsp\;2019</span><br />\n	<span class="ee-event-datetimes-li-timerange" style="margin: 0px\; padding: 0px\; border: 0px\; vertical-align: baseline\;">6:30&nbsp\;PM - 9:00&nbsp\;PM</span> <input class="ee-ical-sbmt" style="margin: 0px\; vertical-align: middle\; font-size: 18px\; line-height: 1\; border-radius: 2px\; cursor: pointer\; font-family: &quot\;Thirsty Rough&quot\;\, cursive\; text-decoration: inherit\; -webkit-font-smoothing: antialiased\; padding: 5px 20px\; text-transform: lowercase\; -webkit-appearance: button\; background: rgb(0\, 0\, 0)\; color: rgb(255\, 255\, 255)\; border-width: 0px\; border-style: initial\; border-color: initial\;" title="Add to iCal Calendar" type="submit" value="&#61765\;" />&nbsp\;</li>\n</ul>\n</div>\n\n<div class="espresso-venue-dv-address" style="margin: 0px 0px 0px 23.1875px\; padding: 0px\; border: 0px\; vertical-align: baseline\; font-size: 16px\; font-family: Oswald\, sans-serif\; text-transform: uppercase\; width: 208.797px\; float: right\;">1039 HILL RD N\,<br />\nPICKERINGTON\, OHIO 43147\n<div class="clear" style="margin: 0px\; padding: 0px\; border: 0px\; vertical-align: baseline\; clear: both\;">&nbsp\;</div>\n\n<p style="margin: -28px 0px 20px\; padding: 0px\; border: 0px\; vertical-align: baseline\; overflow-wrap: break-word\; line-height: 1.66em\;"><span class="small-text" style="margin: 0px\; padding: 0px\; border: 0px\; vertical-align: baseline\; font-size: 0.85em\; line-height: 1.4em\; letter-spacing: 0.25px\;"><span style="margin: 0px\; padding: 0px\; border: 0px\; vertical-align: baseline\; font-size: 15px\;">PHONE:</span></span>&nbsp\;<span itemprop="telephone" style="margin: 0px\; padding: 0px\; border: 0px\; vertical-align: baseline\;">614-429-5625</span></p>\n</div>\n</div>\n\n<div class="clear" style="margin: 0px\; padding: 0px\; border: 0px\; vertical-align: baseline\; clear: both\;">&nbsp\;</div>\n\n<div class="ee-desc" style="margin: 0px\; padding: 0px 34.7969px 0px 0px\; border-width: 0px 3px 0px 0px\; border-top-style: initial\; border-right-style: double\; border-bottom-style: initial\; border-left-style: initial\; border-top-color: initial\; border-right-color: rgb(0\, 0\, 0)\; border-bottom-color: initial\; border-left-color: initial\; border-image: initial\; vertical-align: baseline\; width: 510.391px\; float: left\;">\n<div class="event-content" style="margin: 0px\; padding: 0px\; border: 0px\; vertical-align: baseline\;">\n<p style="margin: 0px 0px 20px\; padding: 0px\; border: 0px\; vertical-align: baseline\; font-size: 16px\; overflow-wrap: break-word\; line-height: 1.66em\;">Join us at<strong style="margin: 0px\; padding: 0px\; border: 0px\; vertical-align: baseline\;">&nbsp\;AR Workshop</strong>&nbsp\;<strong style="margin: 0px\; padding: 0px\; border: 0px\; vertical-align: baseline\;">Pickerington</strong>!&nbsp\;for DIY DATE NIGHT! Choose from the following combos:</p>\n\n<ul>\n	<li style="margin: 0px 0px 20px\; padding: 0px\; border: 0px\; vertical-align: baseline\; font-size: 16px\; overflow-wrap: break-word\; line-height: 1.66em\;">Blanket Ladder + Chunky Knit Blanket</li>\n	<li style="margin: 0px 0px 20px\; padding: 0px\; border: 0px\; vertical-align: baseline\; font-size: 16px\; overflow-wrap: break-word\; line-height: 1.66em\;">Blanket Ladder + Wooden Tray</li>\n	<li style="margin: 0px 0px 20px\; padding: 0px\; border: 0px\; vertical-align: baseline\; font-size: 16px\; overflow-wrap: break-word\; line-height: 1.66em\;">Blanket Ladder + Centerpiece Box</li>\n	<li style="margin: 0px 0px 20px\; padding: 0px\; border: 0px\; vertical-align: baseline\; font-size: 16px\; overflow-wrap: break-word\; line-height: 1.66em\;">Blanket Ladder + Lazy Susan</li>\n</ul>\n\n<p style="margin: 0px 0px 20px\; padding: 0px\; border: 0px\; vertical-align: baseline\; font-size: 16px\; overflow-wrap: break-word\; color: mediumturquoise\; line-height: 1.66em\;"><a href="https://www.arworkshop.com/pickerington/events/after-vday-diy-date-night/"><b style="margin: 0px\; padding: 0px\; border: 0px\; vertical-align: baseline\;">REGISTER HERE:</b></a></p>\n\n<p style="margin: 0px 0px 20px\; padding: 0px\; border: 0px\; vertical-align: baseline\; font-size: 16px\; overflow-wrap: break-word\; line-height: 1.66em\;">&nbsp\;</p>\n\n<p style="margin: 0px 0px 20px\; padding: 0px\; border: 0px\; vertical-align: baseline\; font-size: 16px\; overflow-wrap: break-word\; line-height: 1.66em\;"><br />\n&nbsp\;</p>\n</div>\n</div>\n\n<div class="event-tickets" style="margin: 0px\; padding: 0px 23.1875px\; border: 0px\; vertical-align: baseline\; width: 540px\; max-width: 540px\; float: right\; clear: both\;">\n<div class="tkt-slctr-tbl-wrap-dv" id="tkt-slctr-tbl-wrap-dv-15801" style="margin: 1em 0px\; padding: 0px\; border: 0px\; vertical-align: baseline\; font-size: 1.1em\;">\n<div class="tkt-slctr-request-processor-dv" style="margin: 0px 0px 0px -999em\; padding: 0px\; border: 0px\; vertical-align: baseline\; font-size: 15.4px\; float: left\; height: 0px\;"><input id="tkt-slctr-request-processor-email-1548426137.1228" name="tkt-slctr-request-processor-email" style="margin: 0px 0px 4px\; vertical-align: middle\; font-size: 13px\; border-radius: 0px\; font-family: inherit\; outline: none\; border-width: 1px\; border-style: solid\; border-color: rgb(227\, 227\, 227)\; color: rgb(118\, 118\, 118)\; padding: 10px 12px\; background-color: rgb(253\, 253\, 253)\;" type="email" value="" /></div>\n</div>\n\n<div class="ticket-selector-submit-btn-wrap" id="ticket-selector-submit-15801-btn-wrap" style="margin: 0px\; padding: 0px\; border: 0px\; vertical-align: baseline\; float: right\; display: inline-block\;"><input class="ticket-selector-submit-btn ticket-selector-submit-ajax" id="ticket-selector-submit-15801-btn" style="margin: 0px 15px 0px 0px\; vertical-align: middle\; font-size: 0px\; border-radius: 2px\; cursor: pointer\; font-family: thirstyroughregtwo\, cursive\; float: right\; -webkit-appearance: button\; background: url(&quot\;/wp-content/uploads/2016/01/btn-register.png&quot\;) no-repeat rgb(255\, 255\, 255)\; color: rgb(255\, 255\, 255)\; text-transform: lowercase\; padding: 5px 20px\; border-width: 0px\; border-style: initial\; border-color: initial\; width: 178px\; height: 44px\;" type="submit" value="Register Now" /></div>\n\n<div class="clear" style="margin: 0px\; padding: 0px\; border: 0px\; vertical-align: baseline\; clear: both\;">&nbsp\;</div>\n</div>\n</article>\n</div>\n\n<div class="clear" style="margin: 0px\; padding: 0px\; border: 0px\; vertical-align: baseline\; font-size: 14px\; clear: both\; font-family: &quot\;Open Sans&quot\;\; background-color: rgb(255\, 255\, 255)\;">&nbsp\;</div>\n\n<div class="ee-gallery" style="margin: 0px\; padding: 0px\; border: 0px\; vertical-align: baseline\; font-size: 14px\; font-family: &quot\;Open Sans&quot\;\; background-color: rgb(255\, 255\, 255)\;">\n<div class="event-content" style="margin: 0px\; padding: 0px\; border: 0px\; vertical-align: baseline\;">&nbsp\;</div>\n</div>\n
LOCATION:AR Workshop Pickerington 1039 Hill RD N Pickerington\, OH 43147
UID:e.1451.12672
SEQUENCE:3
DTSTAMP:20260425T215410Z
URL:https://www.pickeringtonchamber.com/events/details/after-vday-diy-date-night-12672
END:VEVENT

END:VCALENDAR
