BEGIN:VCALENDAR
VERSION:2.0
PRODID:-//ChamberMaster//Event Calendar 2.0//EN
METHOD:PUBLISH
X-PUBLISHED-TTL:P3D
REFRESH-INTERVAL:P3D
CALSCALE:GREGORIAN
BEGIN:VEVENT
DTSTART;VALUE=DATE:20190615
DTEND;VALUE=DATE:20190616
TRANSP:TRANSPARENT
X-MICROSOFT-CDO-ALLDAYEVENT:TRUE
SUMMARY:2019 Fairfield County 211 No-Show Gala
DESCRIPTION:2019 Fairfield County 211 No-Show Gala!\n\n\n\nDate: June 15\, 2019\n\nLocation: Your Living Room\n\nFeatured Entertainment:\n\n	Spend the night with your family\n	Take comfort knowing you are helping thousands of families in Fairfield County\n\nValue: $25 (and a really good feeling inside...)\n\nFor event information\, stop by our office\, or visit our website at www.fairfieldcounty211.org
X-ALT-DESC;FMTTYPE=text/html:<span style="font-family:verdana\;"><em><span style="font-size:16px\;">2019 Fairfield County 211 No-Show Gala!</span></em><br />\n<br />\nDate: June 15\, 2019<br />\nLocation: Your Living Room<br />\nFeatured Entertainment:</span>\n<ul>\n	<li><span style="font-family:verdana\;">Spend the night with <strong><em>your</em></strong> family</span></li>\n	<li><span style="font-family:verdana\;">Take comfort knowing you are helping <strong><em>thousands</em></strong> of families in Fairfield County</span></li>\n</ul>\n<span style="font-family:verdana\;">Value: $25 (and a really good feeling inside...)<br />\nFor event information\, stop by our office\, or visit our website at www.fairfieldcounty211.org</span>
LOCATION:Your Living Room
UID:e.1451.13331
SEQUENCE:3
DTSTAMP:20260426T013553Z
URL:https://www.pickeringtonchamber.com/events/details/2019-fairfield-county-211-no-show-gala-13331
END:VEVENT

END:VCALENDAR
