BEGIN:VCALENDAR
VERSION:2.0
PRODID:-//ChamberMaster//Event Calendar 2.0//EN
METHOD:PUBLISH
X-PUBLISHED-TTL:P3D
REFRESH-INTERVAL:P3D
CALSCALE:GREGORIAN
BEGIN:VEVENT
DTSTART:20190201T223000Z
DTEND:20190202T013000Z
X-MICROSOFT-CDO-ALLDAYEVENT:FALSE
SUMMARY:2018 Annual Awards Celebration & Silent Auction
DESCRIPTION:Join us for the Annual Awards Celebration & Silent Auction\, sponsored by Diley Ridge Medical Center!  This is the largest event of the year and a can't miss opportunity to celebrate the business community\, share updates from the past year\, and make new connections throughout the evening at the Silent Auction! \n\n\n\nThe schedule for this year: \n\n5:30 p.m. - Doors open & Silent Auction Bidding Begins\n\nLight Hors d'oeuvres will be served\n\n6:45 p.m. Dinner Buffet & Silent Auction Bidding\n\n7:45 p.m. Awards Program\n\n8:30 p.m. Silent Auction Closes\n\n\n\nWe look forward to celebrating ALL of our Award Nominees and hope you will join us at this Annual Event!\n\n\n\nCongratulations to the Award Finalists:\n\nBusiness of the Year\n\nBuji ActionCoach\n\nTarget Business Services\n\n\n\nBusiness Diversity Award\n\nPCS of Fairfield (Person Centered Services)\n\nPhenix Banquet Center\n\n\n\nRising Star Award\n\nHangry City Grille & Spirits\n\nHello Style Mobile Boutique Featuring LuLaRoe\n\n\n\nNon-Profit of the Year\n\nPickerington Food Pantry\n\nPickerington Public Library\n\n\n\nRegistration will close on Monday\, January 28\, 2019\, so be sure to RSVP!\n\n\n\nMany thanks to our amazing sponsor and rock-star volunteers that help to make this event a success!
X-ALT-DESC;FMTTYPE=text/html:<br />\nJoin us for the <strong>Annual Awards Celebration &amp\; Silent Auction\, </strong>sponsored by <strong>Diley Ridge Medical Center!</strong> &nbsp\;This is the largest event of the year and a can&#39\;t miss opportunity to celebrate the business community\, share updates from the past year\, and make new connections throughout the evening at the Silent Auction!&nbsp\;<br />\n<br />\n<strong>The schedule for this year:&nbsp\;</strong><br />\n5:30 p.m. - Doors open &amp\; Silent Auction Bidding Begins<br />\nLight Hors d&#39\;oeuvres will be served<br />\n6:45 p.m.&nbsp\;Dinner Buffet &amp\; Silent Auction Bidding<br />\n7:45 p.m. Awards Program<br />\n8:30 p.m. Silent Auction Closes<br />\n<br />\nWe look forward to celebrating ALL of our Award Nominees and hope you will join us at this Annual Event!<br />\n<br />\nCongratulations to the Award Finalists:<br />\n<strong><span style="font-family:arial\,sans-serif\;"><span style="font-size:10.0pt\;">Business of the Year</span></span></strong><br />\n<span style="font-family:arial\,sans-serif\;"><span style="font-size:10.0pt\;">Buji ActionCoach<br />\nTarget Business Services<br />\n<br />\n<strong>Business Diversity Award</strong><br />\nPCS of Fairfield (Person Centered Services)<br />\nPhenix Banquet Center<br />\n<br />\n<strong>Rising Star Award</strong><br />\nHangry City Grille &amp\; Spirits<br />\nHello Style Mobile Boutique Featuring LuLaRoe<br />\n<br />\n<strong>Non-Profit of the Year</strong><br />\nPickerington Food Pantry<br />\nPickerington Public Library</span></span><br />\n<br />\nRegistration will close on Monday\, January 28\, 2019\, so be sure to RSVP!<br />\n<br />\nMany thanks to our amazing sponsor and rock-star volunteers that help to make this event a success!&nbsp\;&nbsp\;
LOCATION:Zion Pickerington 5780 Reynoldsburg Baltimore Rd NW Pickerington\, OH 43147
UID:e.1451.12517
SEQUENCE:3
DTSTAMP:20260425T184813Z
URL:https://www.pickeringtonchamber.com/events/details/2018-annual-awards-celebration-silent-auction-12517
END:VEVENT

END:VCALENDAR
